BEGIN:VCALENDAR
VERSION:2.0
PRODID:-//Campfire of SE Michigan - ECPv4.9.14//NONSGML v1.0//EN
CALSCALE:GREGORIAN
METHOD:PUBLISH
X-WR-CALNAME:Campfire of SE Michigan
X-ORIGINAL-URL:https://campfiresem.org
X-WR-CALDESC:Events for Campfire of SE Michigan
BEGIN:VTIMEZONE
TZID:America/Detroit
BEGIN:DAYLIGHT
TZOFFSETFROM:-0500
TZOFFSETTO:-0400
TZNAME:EDT
DTSTART:20230312T070000
END:DAYLIGHT
BEGIN:STANDARD
TZOFFSETFROM:-0400
TZOFFSETTO:-0500
TZNAME:EST
DTSTART:20231105T060000
END:STANDARD
END:VTIMEZONE
BEGIN:VEVENT
DTSTART;TZID=America/Detroit:20231007T120000
DTEND;TZID=America/Detroit:20231007T180000
DTSTAMP:20260418T110634
CREATED:20230803T165525Z
LAST-MODIFIED:20230803T165552Z
UID:1593-1696680000-1696701600@campfiresem.org
SUMMARY:2023 Camp Wathana Alumni Reunion
DESCRIPTION: \n
URL:https://campfiresem.org/event/2023-camp-wathana-alumni-reunion/
LOCATION:Camp Wathana\, 9750 Milford Road\, Holly\, MI\, 48442\, United States
END:VEVENT
END:VCALENDAR